BEGIN:VCALENDAR
VERSION:2.0
PRODID:-//SVP Stadt Frauenfeld //NONSGML Events //EN
CALSCALE:GREGORIAN
X-WR-CALNAME:SVP Stadt Frauenfeld
BEGIN:VEVENT
CREATED:20221107T165154Z
UID:7398
DTEND:20240821T190000
DTSTART:20240821T180000
DTSTAMP:20260421T012008Z
LOCATION:
DESCRIPTION:
SUMMARY:Gemeinderatssitzung
ORGANIZER:
URL;VALUE=URI:https://www.svp-frauenfeld.ch/aktuell/termine/gemeinderatssitzung-38/
TRANSP:OPAQUE
END:VEVENT
END:VCALENDAR
