BEGIN:VCALENDAR
VERSION:2.0
PRODID:-//SVP Stadt Frauenfeld //NONSGML Events //EN
CALSCALE:GREGORIAN
X-WR-CALNAME:SVP Stadt Frauenfeld
BEGIN:VEVENT
CREATED:20210920T095728Z
UID:7052
DTEND:20220925T000000
DTSTART:20220925T000000
DTSTAMP:20260425T181117Z
LOCATION:
DESCRIPTION:Stadt:  Objektkredit über 30.1 Mio. Franken für die Realisierung der
SUMMARY:Abstimmungssonntag
ORGANIZER:
URL;VALUE=URI:https://www.svp-frauenfeld.ch/aktuell/termine/abstimmungssonntag-3/
TRANSP:OPAQUE
END:VEVENT
END:VCALENDAR
