BEGIN:VCALENDAR
VERSION:2.0
PRODID:-//SVP Stadt Frauenfeld //NONSGML Events //EN
CALSCALE:GREGORIAN
X-WR-CALNAME:SVP Stadt Frauenfeld
BEGIN:VEVENT
CREATED:20201207T201429Z
UID:6828
DTEND:20210616T180000
DTSTART:20210616T170000
DTSTAMP:20260420T020602Z
LOCATION:
DESCRIPTION:
SUMMARY:Gemeinderatssitzung
ORGANIZER:
URL;VALUE=URI:https://www.svp-frauenfeld.ch/aktuell/termine/gemeinderatssitzung-17/
TRANSP:OPAQUE
END:VEVENT
END:VCALENDAR
