BEGIN:VCALENDAR
VERSION:2.0
PRODID:-//SVP Stadt Frauenfeld //NONSGML Events //EN
CALSCALE:GREGORIAN
X-WR-CALNAME:SVP Stadt Frauenfeld
BEGIN:VEVENT
CREATED:20201207T201147Z
UID:6820
DTEND:20210428T190000
DTSTART:20210428T180000
DTSTAMP:20260421T152630Z
LOCATION:
DESCRIPTION:
SUMMARY:Gemeinderatssitzung
ORGANIZER:
URL;VALUE=URI:https://www.svp-frauenfeld.ch/aktuell/termine/gemeinderatssitzung-16/
TRANSP:OPAQUE
END:VEVENT
END:VCALENDAR
